BEGIN:VCALENDAR
VERSION:2.0
PRODID:-//InvisionCommunity Events 5.0.12//EN
METHOD:PUBLISH
CALSCALE:GREGORIAN
REFRESH-INTERVAL:PT15M
X-PUBLISHED-TTL:PT15M
X-WR-CALNAME:События
NAME:События
BEGIN:VTIMEZONE
TZID:Europe/London
TZURL:https://tzurl.org/zoneinfo/Europe/London
X-LIC-LOCATION:Europe/London
BEGIN:DAYLIGHT
TZOFFSETFROM:+0000
TZOFFSETTO:+0100
TZNAME:BST
DTSTART:20170326T020000Z
RRULE:FREQ=YEARLY;BYMONTH=3;BYDAY=-1SU
END:DAYLIGHT
BEGIN:STANDARD
TZOFFSETFROM:+0100
TZOFFSETTO:+0000
TZNAME:GMT
DTSTART:20171029T020000Z
RRULE:FREQ=YEARLY;BYMONTH=10;BYDAY=-1SU
END:STANDARD
END:VTIMEZONE
BEGIN:VEVENT
SUMMARY:Практический \"
	Углубленный\" Курс Школа Руслана Татья
	нина
DTSTAMP:20170225T190711Z
SEQUENCE:0
UID:4-11-57a4558618d2336445fc2932a6579da6@parikmaher.net.ru
ORGANIZER;CN="RuslanTatyanin_School":info@parikmaher.net.ru
DESCRIPTION:\n	Москва\n\n\n\n	Прак
	тический \"Углубленный\
	" Курс\nм. Водный стадион\, БЦ Водный\
	n\n	Студия Alfaparf Milano\n1-4 марта 2017 \n
	Цена обучения:47 000 руб. \nТелефон для
	 записи:8 916 577 78 81\n\n\n\
	n	Школа Русл
	ана Татьян
	ина Предста
	вляет вершину
	 \n\n	парикмахерског
	о искусства – Прич
	ески из длинных вол
	ос!\n\n	За 4 дня Вы
	 освоите основ
	ные техники ра
	боты с длинны
	ми волосами! 
	Целых 30 часо
	в практики 
	позволят в
	ам почувств
	овать себя м
	астером\, сп
	особным сде
	лать ваших 
	клиентов с
	амыми красивы
	ми. За время ку
	рса вы научит
	есь профессион
	ально делать 
	10 причесок\, 
	овладеете 
	новыми техн
	ологиями\, 
	усовершен
	ствуете сти
	ль и скорость с
	воей работы и научитесь гра
	мотному общению с клиентами.\n
	\n\n\n	\n		\n	\n\n\n\n	Продолжительно
	сть курса - 4 дня. \n\n	Первый день
	 с 11:00 до 18:30. \n\n	Все остальные дни 
	с 10:00 до 18:30. \n\n	Максимальная г
	руппа - 18 человек.\n\n\n\n
		Основные темы: \n\n	1
	. Востребованные салон
	ные прически\n\n	2. Прически дл
	я свадьбы\n\n	3. Пучки от А д
	о Я\n\n	4. Быстрые экспрес
	с прически\n\n	Вас ждут:\n
	\n	- Различные техн
	ики накруток и ук
	ладок\n\n	- Прически 
	с использовани
	ем валиков и сеточек\n
	\n	- Прически с использован
	ием техники \"шитья\"\n\n	- 
	Плетение\n\n	- Во
	лны\n\n	Важн
	ой частью
	 курса стан
	ут семинары «По об
	служиванию клиентов
	» и \"Секреты успешн
	ого Instagram\" во вр
	емя которых 
	Руслан Татьян
	ин расскажет Вам 
	о своем опыте ра
	боты и общения
	 с клиентами.\
	n\n	Школа Ру
	слана Тат
	ьянина предоста
	вляет всем студе
	нтам для отработк
	и манекен голову\, \n
	\n	а также в подаро
	к НАБОР для создани
	я причесок.\n\n	Всем студе
	нтам при себе иметь щипц
	ы 19\, 25 диаметров\,\n\n	а т
	ак же расческу-
	хвостик и щетк
	у-лопатку.\n\n
		Все необходимы
	е инструменты м
	ожно приобрести
	 во время обучен
	ия!\n\n	По окон
	чанию курса всем студ
	ентам выдается Диплом Школы Руслан
	а Татьянина.\n
DTSTART:20170301T080000Z
DTEND:20170304T163000Z
END:VEVENT
END:VCALENDAR
