BEGIN:VCALENDAR
VERSION:2.0
PRODID:-//InvisionCommunity Events 5.0.12//EN
METHOD:PUBLISH
CALSCALE:GREGORIAN
REFRESH-INTERVAL:PT15M
X-PUBLISHED-TTL:PT15M
X-WR-CALNAME:Семинары МОСКВА
NAME:Семинары МОСКВА
BEGIN:VTIMEZONE
TZID:Europe/London
TZURL:https://tzurl.org/zoneinfo/Europe/London
X-LIC-LOCATION:Europe/London
BEGIN:DAYLIGHT
TZOFFSETFROM:+0000
TZOFFSETTO:+0100
TZNAME:BST
DTSTART:20170326T020000Z
RRULE:FREQ=YEARLY;BYMONTH=3;BYDAY=-1SU
END:DAYLIGHT
BEGIN:STANDARD
TZOFFSETFROM:+0100
TZOFFSETTO:+0000
TZNAME:GMT
DTSTART:20171029T020000Z
RRULE:FREQ=YEARLY;BYMONTH=10;BYDAY=-1SU
END:STANDARD
END:VTIMEZONE
BEGIN:VEVENT
SUMMARY:Интенсивный курс \"Прически от А
	 до Я\"
DTSTAMP:20171023T195458Z
SEQUENCE:0
UID:50-35-57a4558618d2336445fc2932a6579da6@parikmaher.net.ru
ORGANIZER;CN="ESTEL Professional":info@parikmaher.net.ru
DESCRIPTION:\n\n	Место проведения\n\n\n\n	\n	
		\n			ул. Трубная 37/6\n«Студия ESTEL Moscow Academy »\n
			\n	\n	 \n\n	\n		\n			Телефон студии +7 (495) 981-18-09\
	n		\n	\n\n\n\n	Вас вдохнов
	ляют прически\
	, но вы не ре
	шаетесь вы
	полнять их св
	оим клиентам
	? Хотите расши
	рить перечень 
	своих услуг и б
	ыть с прическа
	ми на «ТЫ»? Т
	огда этот ку
	рс точно для
	 Вас?Курс б
	удет инт
	ересен:• 
	 Мастерам 
	без опыта 
	работы с дл
	инными вол
	осами •  М
	астерам с о
	пытом в это
	м направл
	ении\, ко
	торые ч
	увствую
	т потреб
	ность д
	ополнит
	ь свои з
	нания 
	Практи
	ческие 
	навыки
	 после
	 прохо
	ждения
	 курса:
	 •  Обзо
	р инстру
	ментов• 
	 Идеальн
	ый хвост•
	  Фиксация
	 причёсок 
	(стайлинг
	\, аксес
	суары
	)•  Пр
	едварит
	ельная 
	подготов
	ка волос 
	перед пр
	ической•
	  Текстури
	рование во
	лос (разли
	чные виды 
	плоек)•  
	Прически н
	а текстурн
	ых волосах
	В программе
	 курса: поэт
	апная демо
	нстрация и
	 отработка
	 на манекен-голов
	ах.Курс дает возможность ма
	стеру получить статус «HAIR EXPERT»\n\n\n\n
		Подробнее http://studio.estel.pro/msk/intensivnyy-kurs-prichesk
	i-ot-a-do-ya/ \n\n
DTSTART;VALUE=DATE:20171117
END:VEVENT
END:VCALENDAR
