BEGIN:VCALENDAR
VERSION:2.0
PRODID:-//InvisionCommunity Events 5.0.12//EN
METHOD:PUBLISH
CALSCALE:GREGORIAN
REFRESH-INTERVAL:PT15M
X-PUBLISHED-TTL:PT15M
X-WR-CALNAME:События
NAME:События
BEGIN:VTIMEZONE
TZID:Europe/London
TZURL:https://tzurl.org/zoneinfo/Europe/London
X-LIC-LOCATION:Europe/London
BEGIN:DAYLIGHT
TZOFFSETFROM:+0000
TZOFFSETTO:+0100
TZNAME:BST
DTSTART:20180325T020000Z
RRULE:FREQ=YEARLY;BYMONTH=3;BYDAY=-1SU
END:DAYLIGHT
BEGIN:STANDARD
TZOFFSETFROM:+0100
TZOFFSETTO:+0000
TZNAME:GMT
DTSTART:20181028T020000Z
RRULE:FREQ=YEARLY;BYMONTH=10;BYDAY=-1SU
END:STANDARD
END:VTIMEZONE
BEGIN:VEVENT
SUMMARY:Вебинар по кератину
DTSTAMP:20180607T072905Z
SEQUENCE:0
UID:126-57-57a4558618d2336445fc2932a6579da6@parikmaher.net.ru
ORGANIZER;CN="Брарус Косметикс":info@parikmah
	er.net.ru
DESCRIPTION:\n	Обязательн
	о вступите в нашу груп
	пу\, чтобы не пропус
	тить трансляцию 19
	 июня в 11-00.Тех
	нолог бре
	нда Татья
	на Гудина п
	роведет веб
	инар на тему
	 кератиново
	го выпрямлен
	ия волос. Во 
	время которого ответи
	т на ваши вопросы и расскажет о про
	цедуре Ultra Liss Cacao&amp\;AcaiЧ
	тобы получить
	 напоминание о вебинаре
	\, подпишитесь на рассылку от группы - ССЫ
	ЛКА\n
DTSTART;VALUE=DATE:20180619
END:VEVENT
END:VCALENDAR
