BEGIN:VCALENDAR
VERSION:2.0
PRODID:-//InvisionCommunity Events 5.0.12//EN
METHOD:PUBLISH
CALSCALE:GREGORIAN
REFRESH-INTERVAL:PT15M
X-PUBLISHED-TTL:PT15M
X-WR-CALNAME:События
NAME:События
BEGIN:VTIMEZONE
TZID:Europe/London
TZURL:https://tzurl.org/zoneinfo/Europe/London
X-LIC-LOCATION:Europe/London
BEGIN:DAYLIGHT
TZOFFSETFROM:+0000
TZOFFSETTO:+0100
TZNAME:BST
DTSTART:20190331T020000Z
RRULE:FREQ=YEARLY;BYMONTH=3;BYDAY=-1SU
END:DAYLIGHT
BEGIN:STANDARD
TZOFFSETFROM:+0100
TZOFFSETTO:+0000
TZNAME:GMT
DTSTART:20191027T020000Z
RRULE:FREQ=YEARLY;BYMONTH=10;BYDAY=-1SU
END:STANDARD
END:VTIMEZONE
BEGIN:VTIMEZONE
TZID:Europe/London
TZURL:https://tzurl.org/zoneinfo/Europe/London
X-LIC-LOCATION:Europe/London
BEGIN:DAYLIGHT
TZOFFSETFROM:+0000
TZOFFSETTO:+0100
TZNAME:BST
DTSTART:20200329T020000Z
RRULE:FREQ=YEARLY;BYMONTH=3;BYDAY=-1SU
END:DAYLIGHT
BEGIN:STANDARD
TZOFFSETFROM:+0100
TZOFFSETTO:+0000
TZNAME:GMT
DTSTART:20201025T020000Z
RRULE:FREQ=YEARLY;BYMONTH=10;BYDAY=-1SU
END:STANDARD
END:VTIMEZONE
BEGIN:VEVENT
SUMMARY:Экспресс-база по
	 колористике в Международной Школе KEUNE DES
	IGN
DTSTAMP:20190524T120327Z
SEQUENCE:0
UID:169-64-57a4558618d2336445fc2932a6579da6@parikmaher.net.ru
ORGANIZER;CN="Международная Академия KE
	UNE DESIGN":info@parikmaher.net.ru
DESCRIPTION:\n	Если В
	ы хотите 
	освоить м
	астерство окрашив
	ания записывайтесь на Базовый 
	курс колористики \"COLOR DESIGN START\" 
	в Международной Школ
	е KEUNE DESIGN. Профессионалы
	 индустрии красоты
	 обучаются здесь.
	\n\n\n\n	Курс эк
	спресс-
	колорис
	тики дл
	я парик
	махеров 
	– это за
	мечатель
	ная возм
	ожность 
	получить н
	еобходимые
	 знания по о
	сновным техн
	икам окрашив
	ания волос\, 
	сочетанию ц
	ветов и от
	тенков\, 
	созданию инди
	видуального стил
	я и коррекции рас
	пространенных ошиб
	ок. \n\n\n\n	Обучение
	 происходит на 
	красителях марки
	 KEUNE с инновац
	ионной 5-ти
	 ступенчато
	й молекулой
	 цвета\, кот
	орая позво
	ляет окраш
	ивать вол
	осы самым
	 безопасным сп
	особом и делать с
	аму процедуру окрашива
	ния эффективной.\n\n\n\
	n	Стоимость курса 50 000 рублей. Действует
	 рассрочка.\n\n\n\n	\n
DTSTART:20190701T150000Z
DTEND:20190913T210000Z
END:VEVENT
BEGIN:VEVENT
SUMMARY:ЭКСТРА КУРС \"Обучение пар
	икмахеров с нуля\"
DTSTAMP:20190524T114008Z
SEQUENCE:0
UID:168-64-57a4558618d2336445fc2932a6579da6@parikmaher.net.ru
ORGANIZER;CN="Международная Академия KE
	UNE DESIGN":info@parikmaher.net.ru
DESCRIPTION:\n	16 сентября 2019 года в Ме
	ждународной Школе KE
	UNE DESIGN стартует
	 ЭКСТРА курс
	 для начинаю
	щих парикма
	херов. Пригл
	ашаем всех жел
	ающих\, готовых освои
	ть новую специальность. Об
	учение 10 месяцев. \n\n\n\n
		Курс включает:\n\n\n\n
			Современное пари
	кмахерское искусство 
	с нуля.\n	\n	\n		Междунаро
	дные стандарты красоты.\n
		\n	\n		Бесконечное разн
	ообразие стилей.\n	\n	\n		С
	трижки женские и мужские.\
	n	\n	\n		Колористика.\n	\n	\n		Химическ
	ая завивка.\n	\n	\n		Укладки.\n	\n
		\n		Прически.\n	\n\n	Занят
	ия проходят с понедельн
	ика по пятницу с 10.00 до
	 18.00. Вы получи
	те базовые
	 знания и у
	знаете вс
	е секреты
	 парикма
	херского
	 искусства от
	 звезд и международн
	ых технологов Между
	народной Академии K
	EUNE DESIGN. Окончи
	вшим курс вы
	дается Диплом госуда
	рственного образца с 
	присвоением 3-4 разря
	да.\n\n\n\n	Записаться на курс можн
	о перейдя по ссылке https://schoolkeune.ru/course/parikma
	xer-3-4-razryada/ или по телефону Межд
	ународной Школы +7(495)330-36-33 или +7(903)545-99-65.\n
	\n\n\n	\n
DTSTART:20190916T070000Z
DTEND:20200809T210000Z
END:VEVENT
BEGIN:VEVENT
SUMMARY:ЭКСТРА КУРС \"Обучение пар
	икмахеров с нуля\"
DTSTAMP:20190212T092549Z
SEQUENCE:0
UID:162-64-57a4558618d2336445fc2932a6579da6@parikmaher.net.ru
ORGANIZER;CN="Международная Академия KE
	UNE DESIGN":info@parikmaher.net.ru
DESCRIPTION:\n	18 февраля 2019 года в Меж
	дународной Школе KEU
	NE DESIGN стартует
	 ЭКСТРА курс
	 для начинаю
	щих парикма
	херов. Пригл
	ашаем всех жел
	ающих\, готовы
	х освоить новую 
	специальность. Обучение
	 10 месяцев. Осталось мало мест!
	!! \n\n\n\n	Курс включает:
	\n\n\n\n		Современное пар
	икмахерское искусств
	о с нуля.\n	\n	\n		Междунар
	одные стандарты красоты.
	\n	\n	\n		Бесконечное разн
	ообразие стилей.\n	\n	\n		С
	трижки женские и мужские.\
	n	\n	\n		Колористика.\n	\n	\n		Химическ
	ая завивка.\n	\n	\n		Укладки.\n	\n
		\n		Прически.\n	\n
	\n	Окончивш
	им курс выда
	ется Диплом государс
	твенного образца с пр
	исвоением 3-4 разряда
	.\n\n\n\n	Записаться на курс можно пе
	рейдя по ссылке https://schoolkeune.ru/course/parikmaxer
	-3-4-razryada/ или по телефону Междуна
	родной Школы +7(495)330-36-33 или +7(903)545-99-65.\n\n\n
DTSTART:20190218T070000Z
DTEND:20191219T210000Z
END:VEVENT
BEGIN:VEVENT
SUMMARY:Авторский курс TURBO CUT & COLOR
DTSTAMP:20190122T132648Z
SEQUENCE:0
UID:154-64-57a4558618d2336445fc2932a6579da6@parikmaher.net.ru
ORGANIZER;CN="Международная Академия KE
	UNE DESIGN":info@parikmaher.net.ru
DESCRIPTION:\n\n	Мастер-к
	ласс на моде
	лях четырех с
	трижек и схе
	м окрашиван
	ия под них в тур
	бо-техниках. Быст
	рые коммерческие образы.
	 Сертификат!\n\n\n\n	Подробности о курсе http
	s://schoolkeune.ru/course/turbo-cut/\n\n\n\n	 \n\n\n\n	 \n\n
DTSTART:20190205T070000Z
DTEND:20190205T150000Z
END:VEVENT
BEGIN:VEVENT
SUMMARY:Экспресс-база по
	 колористике в Международной Школе KEUNE DES
	IGN
DTSTAMP:20190118T142115Z
SEQUENCE:0
UID:150-64-57a4558618d2336445fc2932a6579da6@parikmaher.net.ru
ORGANIZER;CN="Международная Академия KE
	UNE DESIGN":info@parikmaher.net.ru
DESCRIPTION:\n	Если В
	ы хотите 
	освоить м
	астерство окрашив
	ания записывайтесь на Базовый 
	курс колористики \"COLOR DESIGN START\" 
	в Международной Школ
	е KEUNE DESIGN. Профессионалы
	 индустрии красоты
	 обучаются здесь.
	\n\n\n\n	Курс эк
	спресс-
	колорис
	тики дл
	я парик
	махеров 
	– это за
	мечатель
	ная возм
	ожность 
	получить н
	еобходимые
	 знания по о
	сновным техн
	икам окрашив
	ания волос\, 
	сочетанию ц
	ветов и от
	тенков\, 
	созданию инди
	видуального стил
	я и коррекции рас
	пространенных ошиб
	ок. \n\n\n\n	Обучение
	 происходит на 
	красителях марки
	 KEUNE с инновац
	ионной 5-ти
	 ступенчато
	й молекулой
	 цвета\, кот
	орая позво
	ляет окраш
	ивать вол
	осы самым
	 безопасным сп
	особом и делать с
	аму процедуру окрашива
	ния эффективной.\n\n\n\
	n	Стоимость курса 50 000 рублей. Дейс
	твует рассрочка.\n\n\n
DTSTART:20190202T070000Z
DTEND:20190524T210000Z
END:VEVENT
END:VCALENDAR
