BEGIN:VCALENDAR
VERSION:2.0
PRODID:-//InvisionCommunity Events 5.0.12//EN
METHOD:PUBLISH
CALSCALE:GREGORIAN
REFRESH-INTERVAL:PT15M
X-PUBLISHED-TTL:PT15M
X-WR-CALNAME:События
NAME:События
BEGIN:VTIMEZONE
TZID:Europe/London
TZURL:https://tzurl.org/zoneinfo/Europe/London
X-LIC-LOCATION:Europe/London
BEGIN:DAYLIGHT
TZOFFSETFROM:+0000
TZOFFSETTO:+0100
TZNAME:BST
DTSTART:20180325T020000Z
RRULE:FREQ=YEARLY;BYMONTH=3;BYDAY=-1SU
END:DAYLIGHT
BEGIN:STANDARD
TZOFFSETFROM:+0100
TZOFFSETTO:+0000
TZNAME:GMT
DTSTART:20181028T020000Z
RRULE:FREQ=YEARLY;BYMONTH=10;BYDAY=-1SU
END:STANDARD
END:VTIMEZONE
BEGIN:VEVENT
SUMMARY:\"Косы и Брейды для летних причес
	ок\"🌺
DTSTAMP:20180630T015411Z
SEQUENCE:0
UID:129-55-57a4558618d2336445fc2932a6579da6@parikmaher.net.ru
ORGANIZER;CN="Сибирский Цирюльник":info@pa
	rikmaher.net.ru
DESCRIPTION:\n	Прогр
	амма: 
	Воздуш
	ное ко
	соплет
	ение В
	одопад
	 Тренд
	-косы с
	 канеко
	лонами
	 Тонкос
	ти подбора
	 правильного стайли
	нга Постановка рук при выполнен
	ие плетения\n\n\n\n	17.07.2018 с 11-00 цена 3000\n\n\n\n	\n
DTSTART;VALUE=DATE:20180717
ATTENDEE;CN="Сибирский Цирюльник";CUTYPE=I
	NDIVIDUAL;PARTSTAT=ACCEPTED:info@parikmaher.net.ru
END:VEVENT
END:VCALENDAR
