BEGIN:VCALENDAR
VERSION:2.0
PRODID:-//InvisionCommunity Events 5.0.12//EN
METHOD:PUBLISH
CALSCALE:GREGORIAN
REFRESH-INTERVAL:PT15M
X-PUBLISHED-TTL:PT15M
X-WR-CALNAME:События
NAME:События
BEGIN:VTIMEZONE
TZID:Europe/London
TZURL:https://tzurl.org/zoneinfo/Europe/London
X-LIC-LOCATION:Europe/London
BEGIN:DAYLIGHT
TZOFFSETFROM:+0000
TZOFFSETTO:+0100
TZNAME:BST
DTSTART:20180325T020000Z
RRULE:FREQ=YEARLY;BYMONTH=3;BYDAY=-1SU
END:DAYLIGHT
BEGIN:STANDARD
TZOFFSETFROM:+0100
TZOFFSETTO:+0000
TZNAME:GMT
DTSTART:20181028T020000Z
RRULE:FREQ=YEARLY;BYMONTH=10;BYDAY=-1SU
END:STANDARD
END:VTIMEZONE
BEGIN:VEVENT
SUMMARY:\"Секретное окрашивание - Ярки
	й акцент\"🌈
DTSTAMP:20180630T021253Z
SEQUENCE:0
UID:130-55-57a4558618d2336445fc2932a6579da6@parikmaher.net.ru
ORGANIZER;CN="Сибирский Цирюльник":info@pa
	rikmaher.net.ru
DESCRIPTION:\n	Програ
	мма: Техн
	ика окра
	шивания 
	волос со
	 скрыты
	ми пря
	дями Р
	азличн
	ые укла
	дки для
	 демонс
	трации 
	секретн
	ого окра
	шивания 
	Правила к
	олористики при выборе цве
	та Работа с пигментами прямого действия
	\n
DTSTART;VALUE=DATE:20180719
END:VEVENT
END:VCALENDAR
